BEGIN:VCALENDAR
VERSION:2.0
PRODID:-//St. Thomas Episcopal Church of Eustis, Florida - ECPv6.15.17.1//NONSGML v1.0//EN
CALSCALE:GREGORIAN
METHOD:PUBLISH
X-WR-CALNAME:St. Thomas Episcopal Church of Eustis, Florida
X-ORIGINAL-URL:https://stthomaseustis.org
X-WR-CALDESC:Events for St. Thomas Episcopal Church of Eustis, Florida
REFRESH-INTERVAL;VALUE=DURATION:PT1H
X-Robots-Tag:noindex
X-PUBLISHED-TTL:PT1H
BEGIN:VTIMEZONE
TZID:America/New_York
BEGIN:DAYLIGHT
TZOFFSETFROM:-0500
TZOFFSETTO:-0400
TZNAME:EDT
DTSTART:20250309T070000
END:DAYLIGHT
BEGIN:STANDARD
TZOFFSETFROM:-0400
TZOFFSETTO:-0500
TZNAME:EST
DTSTART:20251102T060000
END:STANDARD
BEGIN:DAYLIGHT
TZOFFSETFROM:-0500
TZOFFSETTO:-0400
TZNAME:EDT
DTSTART:20260308T070000
END:DAYLIGHT
BEGIN:STANDARD
TZOFFSETFROM:-0400
TZOFFSETTO:-0500
TZNAME:EST
DTSTART:20261101T060000
END:STANDARD
BEGIN:DAYLIGHT
TZOFFSETFROM:-0500
TZOFFSETTO:-0400
TZNAME:EDT
DTSTART:20270314T070000
END:DAYLIGHT
BEGIN:STANDARD
TZOFFSETFROM:-0400
TZOFFSETTO:-0500
TZNAME:EST
DTSTART:20271107T060000
END:STANDARD
END:VTIMEZONE
BEGIN:VEVENT
DTSTART;TZID=America/New_York:20261114T100000
DTEND;TZID=America/New_York:20261114T150000
DTSTAMP:20260425T084806
CREATED:20260118T193630Z
LAST-MODIFIED:20260401T183915Z
UID:1286-1794650400-1794668400@stthomaseustis.org
SUMMARY:2026 Fall Festival & Bazaar
DESCRIPTION:2026 Fall festival & Bazaar				\n				\n					\n				\n		\n					\n				\n									Share this Event: 								\n				\n							\n								\n						\n															\n															\n																				\n					\n									\n						\n															\n															\n																				\n					\n						\n						\n					\n				\n		\n					\n		\n				\n					Saturday\, November 14\, 2026				\n				\n					10:00 a.m. - 3 p.m.				\n				\n					St. Thomas Episcopal Church\, Eustis FL				\n				\n					\n				\n		\n					\n				\n																														\n					\n				\n		\n		\n				\n										\n						\n									Sign Up\n					\n					\n								\n				\n		\n				\n									Join our newsletter 								\n				\n									Stay In Touch 								\n				\n									We’ll send updates about events\, services and community. 								\n				\n				\n		\n					\n				\n									Share this Event:
URL:https://stthomaseustis.org/event/2026-fall-festival-bazaar/
END:VEVENT
END:VCALENDAR